BEGIN:VCALENDAR
VERSION:2.0
PRODID:-//https://dehartcirkel.nl///NONSGML kigkonsult.se iCalcreator 2.10.15//
METHOD:PUBLISH
BEGIN:VEVENT
UID:20260420T061600EDT-4063Haj3Ll@https://dehartcirkel.nl/
DTSTAMP:20260420T101600Z
DESCRIPTION:\nHet huidige onderwijs is vrij cognitief ingesteld. Dat werkt 
 minder goed voor onze huidige (bewustere) kinderen. Zo blijkt uit onderzoe
 k dat gemiddeld 75% van de kinderen niet naar behoren functioneert\; volge
 ns de huidige maatstaven. Dat kun je opmerkelijk noemen. Is er iets mis me
 t onze kinderen? Of ligt het aan de lesstof en onze manier van lesgeven? 
 \nDouwe Hoitsma heeft de onderwijsmethodiek Hart van Onderwijs (HvO) ontwi
 kkeld voor het primair onderwijs. HvO is een schoolbrede methodiek voor pe
 rsoonlijk\, sociaal en systeemleren op basis van tien HvO elementen. De ti
 en zijn de vier hartkwaliteiten en de zes leercompetenties. De vier hartkw
 aliteiten zijn: verbondenheid\, vriendelijkheid\, hulpvaardigheid en blijd
 schap. De zes zijn: geven\, discipline\, geduld\, inzet\, concentratie en 
 wijsheid. Deze tien elementen vormen het hart van elke levenssituatie. Zij
 n methode is als ‘goed’ door de inspectie beoordeeld.\nWe kunnen voorzicht
 ig concluderen dat er minder pesten voorkomt op scholen waar kinderen zich
 zelf mogen zijn en er meer oog en oor is voor hun behoeften. Bovendien: de
  tien HvO elementen zijn de gereedschappen voor het ervaren van geluk.\nWi
 l jij meer leren over deze methodiek dan ben je van harte welkom!\nDeze me
 thodiek kun je natuurlijk veel breder trekken. Toepasbaar in de zorg\, het
  hogere onderwijs\, overheidsinstellingen\, bedrijven etc. \nKortom: deze 
 bijeenkomst is inspirerend voor eenieder die het gevoel heeft dat 'het har
 t' een prominentere rol dient te spelen.\nVorig jaar was Douwe nog met Jor
 is Linssen in het tv-programma ‘Boeddha in de Polder’ te zien. Hij heeft t
 wee prentenboeken en een introductieboek voor HvO geschreven. Wil je alvas
 t meer over HvO te weten komen\, ga dan naar www.hethartvanonderwijs.nl\nA
 chtergrond spreker:\nDouwe Hoitsma is leerkracht\, psycholoog\, onderwijsc
 oach\, tennistrainer en meditatieleraar. Hij houdt zich al 25 jaar bezig m
 et het ontwikkelen van Hart van Onderwijs (HvO). HvO wordt nu op drie Joze
 fscholen in Muiden en Weesp ingezet. In 2014 maakte hij het prentenboek “V
 ier Hartsvrienden” waarin de vier hartkwaliteiten in de vorm van dieren ge
 representeerd worden. In 2017 maakte hij het prentenboek “Zes Waardevolle 
 Vrienden” waarin kinderen aan de hand van zes dierverhalen kennis maken me
 t de innerlijke wereld van de zes leercompetenties. In 2024 werd het intro
 ductieboek “Hart van Onderwijs” uitgegeven. Voor meer info click op boek\,
  waar ook besteld kan worden.\n\n\n\n \n\n\n\nEvenement Informatie\n\n\n\n
 Wanneer: zaterdag middag 24 Mei\nWaar: De Nieuwe Beuk\, Bergen\nTijdstip: 
 14 tot ongeveer 17 uur (inloop vanaf 13.30 uur - kom svp op tijd)\nInveste
 ring: 25\,00 euro\n \n \n\n https://dehartcirkel.nl/event-menu/evenement/1
 33-inspirerende-bijeenkomst-hart-van-onderwijs-douwe-hoitsma
DTSTART:20250524T120000Z
DTEND:20250524T150000Z
LOCATION:de Nieuwe Beuk (Dorpsstraat 20\, 1861 KW Bergen\, Netherlands)
SUMMARY:Inspirerende bijeenkomst: Hart van Onderwijs ~ Douwe Hoitsma
URL:https://dehartcirkel.nl/event-menu/evenement/133-inspirerende-bijeenkom
 st-hart-van-onderwijs-douwe-hoitsma
END:VEVENT
END:VCALENDAR
