BEGIN:VCALENDAR
VERSION:2.0
PRODID:-//https://dehartcirkel.nl///NONSGML kigkonsult.se iCalcreator 2.10.15//
METHOD:PUBLISH
BEGIN:VEVENT
UID:20260420T083408EDT-2729W9oVFT@https://dehartcirkel.nl/
DTSTAMP:20260420T123408Z
DESCRIPTION:Vitamine B12 speelt een cruciale psychisch-lichamelijke rol bij
  het verkrijgen\, dan wel in stand houden\, van gezondheid als ook bij de 
 huidige spirituele ontwikkelingsweg van hoog gevoelige (HSP-ers). \nVitami
 ne B12 is essentieel bij het goed op orde houden van zowel de lichamelijke
  als ook de psychische gezondheid. We halen B12 normaal gesproken uit dier
 lijke voeding (vlees\, vis\, gevogelte\, kaas\, melk\, eieren\, kwark\, et
 c.). Maar bij veel mensen gaat er iets mis met de opname in de maag-darmst
 reek. Dat kan komen door de leeftijd\, het hebben van te weinig maagzuur (
 50 plus\, 60 plus en ouder)\, door te veel stress\, door een erfelijke aan
 leg\, door het gebruik van medicijnen (maagzuurremmers\, antidepressiva\, 
 de anticonceptiepil\, veel antibiotica\, metformine\, etc.)\, het drinken 
 van alcohol\, roken\, etc. Ook de groep “HSP-spiritueel” krijgt regelmatig
  te maken met de gevolgen van een B12 tekort\, mede door een diepgaande “v
 erbouwing” van het lichaam die nu plaatsvindt (bij die ‘verbouwing’ wordt 
 extra B12 gevraagd). De verbouwing heeft te maken met de grote shift waar 
 we als mensheid in zitten.\n \nDat op zich zo onschuldig klinkende “vitami
 ne b12-tekort” speelt een veel grotere rol bij tal van (ernstige) hedendaa
 gse ziekten (ME\, MS\, ziekte van Crohn\, dementie\, etc.) en gezondheidsk
 lachten (moeheid\, overprikkeling\, vergeetachtigheid\, uit evenwicht zijn
 \, etc.)\, van jong tot oud\, dan over het algemeen beseft wordt. Dat komt
  mede door een foutief lage B12 bloedwaardenorm van 150 pmol/l die artsen 
 in Nederland en België nog steeds hanteren\, in plaats van 400 á 500 pmol/
 l\, zoals B12 experts wereldwijd aanbevelen.\n \nSpreker en B12 coach Bo B
 aden schetst op heldere\, lichtvoetige en persoonlijke wijze de omvang en 
 impact van de huidige Vitamine B12 tekort epidemie. En wat je daar tegenwo
 ordig door middel van een speciale succesvolle zuigtablettenformule\, ontd
 ekt door arts Hans Reijnen\, aan kunt doen. Hij zal spreken vanuit 14 jaar
  praktijk- en coachervaring. Met ook hele bijzondere herstelverhalen van (
 vaak ook hoog gevoelige en spirituele) mensen die de nieuwe B12 zuigtablet
 tenformule hebben benut. Ze hebben ervaren dat het waar is wat in diverse 
 bronnen als hét psychologische thema van B12 wordt genoemd: je bestaansrec
 ht (weer) kunnen opeisen. Ook vlecht Bo door zijn lezing actuele maatschap
 pelijke en spirituele ontwikkelingen en brengt ze op boeiende wijze in een
  onderling verband met elkaar.\n \n“Het was ook een kijkje in Bo’s persoon
 lijke B12 verhaal\, hoe hij onverwacht en op magische wijze in 2011 op dit
  pad is gekomen. En dat hij ‘bestaansrecht’\, mijn persoonlijke uitdaging 
 in dit leven\, aan vitamine B12 koppelt\, was een echte eye opener voor me
 . Ook de karakteristieken over de typische “B12-er” waren voor mij een bro
 n van herkenningen. En dat alles verteld op een prachtig bezielde wijze\, 
 met een duidelijke passie en missie en met een vleugje scherpe humor. Het 
 was een fijne middag\, met een fijne groep mensen – Adriana”.\n \nBo Baden
  (25-09-1958)\, bekende actievoerder in de jaren ’80 in Amsterdam (o.a. be
 kend van sprong op de regeringstafel tijdens kruisrakettendebat)\, opricht
 er NBTA. De Nederlandse Bond Tegen Arbeidsethos. Bo richtte in jaren 90 St
 ichting Amalgaam Vrij Nederland op. Vanaf 2007 is Bo schrijver\, (lof-)dic
 hter. In 2011 is hij samen gaan werken met B12 arts Hans Reijnen. Dat mond
 de uit in twee websites: www.vitamineb12tekort.nl en www.vitamineb12nu.nl 
 Sindsdien coacht Bo mensen met een B12 tekort naar een betere gezondheid e
 n houdt hij B12-lezingen door het hele land (en België). \n \nEr is ook ru
 im de gelegenheid om al jouw (B12) vragen te beantwoorden. Kortom: je bent
  van HARTe welkom.\n \nWanneer: zaterdag middag 10 mei (14 tot ongeveer 17
  uur)\n \nWaar: De Nieuwe Beuk Dorpsstraat 20\, 1861 KW Bergen N.H. (grati
 s parkeren naast de Petrus Paulus Kerk\, onze locatie zit hier achter)\n 
 \nInvestering: 15 euro\n \n \n \n  https://dehartcirkel.nl/event-menu/even
 ement/132-lezing-nieuwe-feiten-en-ontwikkelingen-rondom-de-koning-der-vita
 minen-vitamine-b12-spreker-bo-baden
DTSTART:20250510T120000Z
DTEND:20250510T150000Z
LOCATION:de Nieuwe Beuk (Dorpsstraat 20\, 1861 KW Bergen\, Netherlands)
SUMMARY:Lezing: Nieuwe Feiten en Ontwikkelingen Rondom de Koning Der Vitami
 nen: Vitamine B12 Spreker: Bo Baden
URL:https://dehartcirkel.nl/event-menu/evenement/132-lezing-nieuwe-feiten-e
 n-ontwikkelingen-rondom-de-koning-der-vitaminen-vitamine-b12-spreker-bo-ba
 den
END:VEVENT
END:VCALENDAR
