BEGIN:VCALENDAR
VERSION:2.0
PRODID:-//https://dehartcirkel.nl///NONSGML kigkonsult.se iCalcreator 2.10.15//
METHOD:PUBLISH
BEGIN:VEVENT
UID:20260420T083356EDT-6789uOZSBI@https://dehartcirkel.nl/
DTSTAMP:20260420T123356Z
DESCRIPTION:\n\n\n\nIn deze interessante lezing nemen Ard & Ellen je mee na
 ar hun favoriete Europese krachtplaatsen en vertellen ze over de indrukwek
 kende lokale verhalen die daar gedeeld worden en over de inzichten en erva
 ringen die zij daar zelf opdeden. Maar het blijft niet bij Europa: ook Arm
 enië\, Mesopotamië en Egypte komen aan bod! En dat alles in een bijna sacr
 ale sfeer\, waaraan alle bezoekers een bijdrage mogen leveren.\n​\nArd beg
 int de lezing door uit te leggen wat krachtplaatsen zijn\, welke soorten e
 r zoal bestaan en waar hun kracht vandaan komt. Onlosmakelijk verbonden me
 t deze krachtplaatsen is het energie-grid van de aarde\, dat we ook kennen
  onder de verzamelnaam ‘leylijnen’. Bethe Hagens is specialist op het gebi
 ed van dit energie-grid: zij ontwikkelde vanuit (heilige) geometrische vor
 men een internationaal bekend model van dit grid. Je komt er tijdens deze 
 lezing alles over te weten!\n​​​\nVervolgens belicht Ard wat er in deze bi
 jzondere tijd plaatsvindt op Aarde als gevolg van de toename van kosmische
  energieën. Wat is de connectie met de Schumann-resonantie en het Noorderl
 icht\, en hoe veranderen daardoor het magnetisch veld en daarmee het klima
 at van de Aarde?\n​\nDaarna word je meegenomen op reis langs bijzondere Eu
 ropese krachtplaatsen\, zoals de vallei van de Bosnische piramides\, de al
 ignments van Carnac in Frankrijk\, indrukwekkende stenen cirkels in Engela
 nd en Schotland\, de Nederlandse hunebedden en last but not least Ards en 
 Ellens favoriete plek: Ancient Sardinië. Er zijn nieuwe inzichten en infor
 matie over Sardinië zelf\, maar ook over de bijzondere connectie van dit e
 iland met zowel Orion als Taurus de Stier-constellatie. Must know!\n \nKij
 kende naar de geschiedenis van Armenië en Mesopotamië\, zo belooft Ard\, z
 ul je zien dat alles samenvalt\, wat leidt tot interessante nieuwe inzicht
 en over onze geschiedenis.Uiteraard mag in een lezing over krachtplaatsen 
 en krachtinstrumenten ook Egypte niet ontbreken. De vele prachtige tekenin
 gen en afbeeldingen in de Egyptische tempels laten een rijke en indrukwekk
 ende geschiedenis zien\, terwijl diverse tempelteksten uitleg geven over d
 e krachtinstrumenten die de farao’s tot hun beschikking hadden. Inmiddels 
 zijn deze oeroude instrumenten door Nederlandse alchemisten in een ‘nieuw 
 jasje’ gestoken. De kristallen Ankhen\, de super-Djed en de kristallen Sce
 pter worden getoond tijdens de lezing en Ellen deelt haar ervaringen over 
 het werken met deze hoogfrequente krachtinstrumenten en wat deze in het he
 den voor je kunnen betekenen.Ard en Ellen creëren voorafgaand aan de lezin
 g een krachtplek in de ruimte met kristallen\, krachtinstrumenten\, kaarse
 n en bloemen. Iedereen mag een kristal meenemen en hierbij plaatsen. Deze 
 kristallen worden tijdens de lezing opgeladen en op een later moment terug
 gegeven aan Moeder Aarde. \nAan het eind van de avond begeleidt Ellen dan 
 nog een meditatie.\n\n \n\n\n\n\nEvenement Informatie\n\n\nWanneer: Vrijda
 g avond 12 September - 19 uur tot ongeveer 22 uur (kom svp op tijd)\nWaar?
  De Nieuwe Beuk - Dorpsstraat 20\, 1861 KW Bergen N.H. (gratis parkeren na
 ast de Petrus Paulus Kerk\, onze locatie zit hier achter)\n \nVergoeding: 
 25 euro\n\n\n  https://dehartcirkel.nl/event-menu/evenement/130-lezing-kra
 chtplaatsen-en-krachtinstrumenten-met-ard-pisa-zijn-partner-ellen
DTSTART:20250912T170000Z
DTEND:20250912T200000Z
LOCATION:de Nieuwe Beuk (Dorpsstraat 20\, 1861 KW Bergen\, Netherlands)
SUMMARY:Lezing: Krachtplaatsen en krachtinstrumenten met Ard Pisa & zijn pa
 rtner Ellen
URL:https://dehartcirkel.nl/event-menu/evenement/130-lezing-krachtplaatsen-
 en-krachtinstrumenten-met-ard-pisa-zijn-partner-ellen
END:VEVENT
END:VCALENDAR
