BEGIN:VCALENDAR
VERSION:2.0
PRODID:-//https://dehartcirkel.nl///NONSGML kigkonsult.se iCalcreator 2.10.15//
METHOD:PUBLISH
BEGIN:VEVENT
UID:20260420T082620EDT-6379cOrCmA@https://dehartcirkel.nl/
DTSTAMP:20260420T122620Z
DESCRIPTION:In deze turbulente tijden van klimaatverandering\, uitputting e
 n vervuiling van de aarde\, het dreigende uitrollen van het 5G netwerk én 
 van geestelijke stress op vele fronten\, wordt er telkens een beroep op on
 s gedaan om niet alleen in onze liefde te gaan\, dan wel te blijven staan\
 , maar zeker óók in onze kracht. Hóe we deze innerlijke kracht kunnen vind
 en en aanwenden\, daar gaat deze bijzondere Hartcirkel lezing van Dorien H
 oogerheide uit Andijk over.\n\nDorien is een begaafd medium die al ruim 20
  jaar met groot gemak klaterheldere\, wijze en opbeurende boodschappen 'va
 n de andere kant' doorgeeft.\n\nZe is de auteur van twee hele waardevolle 
 boeken: ‘ Liefde voor jezelf’ en 'Verlicht je leven'.  Haar consulten (doo
 rgevingen) die ze individueel geeft\, zijn van een hoog en zeer 'çoncreet'
  niveau\, waardoor al heel veel mensen nieuwe richting\, inspiratie en som
 s ook broodnodige troost en verzoening hebben gevonden.\n\n \n\n \n\nDeze 
 URGENTE\, bekrachtigende én bemoedigende Lezing (doorgeving) zal onder and
 ere gaan over:  \n\n\n	Hoe kom je nu ECHT in je kracht te staan?\n	Waarom 
 geven we onze kracht toch vaak ook weer zo gemakkelijk weg?\n	En wat kun j
 e doen om dit ‘tegen’ te gaan in deze vaak hectische tijden?\n	Hoe kun je 
 je nog beter bewust worden van je innerlijke kracht?\n\n\nDorien Hoogerhei
 de (Lees: de 'Bovenwereld') zal niet alleen heldere analyses aanreiken\, m
 aar ook handzame\, liefdevolle\, oplossingen. Die oplossingen komen dus te
 r plekke door\, evenals in elk geval één speciale Meditatie om weer extra 
 in je innerlijke kracht te komen.\n\nNa de pauze is er ruim de gelegenheid
  om je vragen te stellen die met het onderwerp 'Innerlijke Kracht' te make
 n hebben.\n\nJe bent van HARTe welkom!\n\nMEER INFORMATIE: \n\nMeer inform
 atie over Dorien en haar boeken ‘Liefde voor Jezelf’ en ‘Verlicht je leven
 ’ kun je vinden op haar website: www.berichtenvanboven.nl. Je kunt je daar
  ook abonneren op de gratis Nieuwsbrief die elke maand een gechanneld beri
 cht over actuele zaken bevat.\n\nWanneer?\nOp zaterdagmiddag 9 november 20
 19\nTijdstip: 14:30 uur tot 17 uur (zaal open om 14:00 uur)\nLocatie: Dorp
 shuis De Schulp\, Visweg 45\, 1935 EB Egmond-Binnen\nHeerlijke lichte zaal
  en volop gratis parkeerplekken\, rechts en links van het gebouw!\nVergoed
 ing: 15 euro (vermeld duidelijk jouw naam bij de betaling)\n\nDit bedrag k
 an worden overgemaakt op rekeningnr. NL37 RABO 0327 7053 53\, H.J. Borst\,
  onder vermelding van: Dorien Hoogerheide.\n https://dehartcirkel.nl/event
 -menu/evenement/13-lezing-innerlijke-kracht-vinden-en-voeden-9-november-20
 19-dorien-hoogerheide
DTSTART:20191109T133000Z
DTEND:20191109T160000Z
LOCATION:Dorpshuis De Schulp (Visweg 45\, 1935 EB Egmond-Binnen)
SUMMARY:LEZING: Innerlijke Kracht Vinden en Voeden 9 november 2019 - Dorien
  Hoogerheide
URL:https://dehartcirkel.nl/event-menu/evenement/13-lezing-innerlijke-krach
 t-vinden-en-voeden-9-november-2019-dorien-hoogerheide
END:VEVENT
END:VCALENDAR
