BEGIN:VCALENDAR
VERSION:2.0
PRODID:-//https://dehartcirkel.nl///NONSGML kigkonsult.se iCalcreator 2.10.15//
METHOD:PUBLISH
BEGIN:VEVENT
UID:20260420T063743EDT-1471OhNmVg@https://dehartcirkel.nl/
DTSTAMP:20260420T103743Z
DESCRIPTION: \n\nVoertaal: Engels (wordt vertaald naar het Nederlands)\n \n
  'Jaren geleden ontmoette ik voor het eerst het genezend medium Roberto Ba
 rbosa uit Brazilië.\nPatiënten met klachten\, zowel lichamelijk als geeste
 lijk lieten zich behandelen om weer geheeld te worden. Dit medium\, Robert
 o\, werkt samen met een in 1917 overleden arts die Dr. Fritz heet. Dr. Fri
 tz is degene die alles begeleid en hij werkt vanuit de 'ongeziene wereld' 
 samen met een heel team van artsen en specialisten. Dr. Fritz opereert het
  astraallichaam\, ook wel geestlichaam genoemd. Want naast ons fysieke lic
 haam hebben we ook allemaal een geestelijk lichaam.\nBen verheugd dat ik R
 oberto aan jullie mag introduceren.'\nOrganisator van De Hartcirkel\, Ilon
 a Borst\n \nWat kun je van deze middag verwachten?\nRoberto zal uitleggen 
 hoe hij is begonnen als medium en hoe hij te werk gaat. Daarnaast is er vo
 lop de gelegenheid om vragen te stellen over zijn werk als genezend medium
 .\nDe dag na de 'interactieve lezing' zal Roberto in samenwerking met Dr. 
 Fritz non-invasieve en non manipulatieve operaties uitvoeren. (energetisch
 )\nVoor de spirituele operaties mag je voor drie verschillende aandoeninge
 n hulp vragen. Dat kunnen zowel fysieke als een mentale kwesties zijn. Je 
 kunt bijvoorbeeld denken aan het genezen van een verslaving zoals alcohol 
 en tabak\, maar ook aan fysieke klachten zoals rug- of nekpijn of probleme
 n met uw hormoonstelsel of uw organen.\nDaarnaast zijn er ook AMOR Therapi
 e sessies. Deze sessies zijn ontwikkeld voor een ieder die te maken heeft 
 met bijvoorbeeld emotionele pijn\, angststoornissen\, depressies\, negatie
 ve gedachten .\n \nWil je meer weten over hoe deze genezend medium werkt\,
  kom dan naar deze introductiemiddag in Alkmaar. We hebben voor deze ene k
 eer een locatie in Alkmaar geboekt waar ook de spirituele operaties zullen
  worden uitgevoerd.\n \nWie is Roberto?\nRoberto Barbosa is Master Practit
 ioner en Coach\, met uitgebreide ervaring in persoonlijke ontwikkeling en 
 leiderschap. Oprichter van het Adolph Fritz Instituut\, werkt hij sinds 19
 95 als genezend medium. Hij is ook auteur en co-auteur van boeken over spi
 rituele operaties en mediumschap.\nDr. Fritz werkt vanuit gene zijde met e
 en team van duizenden artsen. Al deze artsen hebben na hun aardse leven be
 sloten hun levenswerk voort te willen zetten\, om zo blijvend hulp aan te 
 kunnen bieden aan allen die dat wensen.\n \nDe opbrengsten van dit eveneme
 nt worden ingezet om naast de gemaakte kosten van dit evenement de missie 
 van het Adolph Fritz Instituut en Highlightcreations te ondersteunen. Deze
  non-profit organisatie heeft als missie om de algehele gezondheid van de 
 mensen op verschillende gebieden te bevorderen: fysiek\, spiritueel\, emot
 ioneel en sociaal.\n\n\n\nEvenement Informatie\n\n\nWanneer? zaterdagmidda
 g 5 April - 14 tot 17 uur (inloop vanaf 13.30 uur)\nWaar? Centrum Wijkwaar
 d\, Alkmaar - Muiderwaard nr. 240\nParkeren voor de deur is gratis. 10 min
 uten loopafstand met de trein\nVergoeding? 15 euro\n \n\nMeer informatie o
 f aanmelden: www.dehartcirkel.nl\n\n https://dehartcirkel.nl/event-menu/ev
 enement/128-introductie-bijeenkomst-met-het-genezend-medium-roberto-barbos
 a-brazilie
DTSTART:20250405T120000Z
DTEND:20250405T150000Z
LOCATION:Centrum Wijkwaard (Muiderwaard\, 1824 Alkmaar\, Netherlands)
SUMMARY:Introductie bijeenkomst met het genezend medium Roberto Barbosa - B
 razilië
URL:https://dehartcirkel.nl/event-menu/evenement/128-introductie-bijeenkoms
 t-met-het-genezend-medium-roberto-barbosa-brazilie
END:VEVENT
END:VCALENDAR
