BEGIN:VCALENDAR
VERSION:2.0
PRODID:-//https://dehartcirkel.nl///NONSGML kigkonsult.se iCalcreator 2.10.15//
METHOD:PUBLISH
BEGIN:VEVENT
UID:20260420T081628EDT-9662W2bpmH@https://dehartcirkel.nl/
DTSTAMP:20260420T121628Z
DESCRIPTION: \n\nHenk Fransen maakte in het voorjaar bij ons indruk met zij
 n lezing “De terugkeer van het licht”. Goed nieuws: we zijn blij om aan te
  kunnen kondigen dat hij dit najaar opnieuw bij de Hartcirkel in het mooie
  Bergen komt. Dit keer voor een lezing én workshop ‘Psychosomatiek & Zelfg
 enezing’.\nJe leert een unieke manier van werken waarbij het lichaam je de
  weg wijst naar gezondheid en je aanwijzingen geeft over je levensbedoelin
 g.\nWat is Psychosomatiek & Zelfgenezing?\nDe onbewuste signalen die ieman
 ds lichaam geeft\, onthullen heel subtiel de oorzaak van een aandoening of
  ziekte – dat is de kern van psychosomatiek. En diezelfde signalen kunnen 
 dus ook de weg wijzen naar heling en herstel.\nHoe precies\, dat gaat Henk
  niet alleen uitleggen\, maar ook – in een demonstratiesessie – laten zien
 . En tijdens de workshop die volgt op de lezing\, krijg je meer demonstrat
 ies en ga je ook zelf met medecursisten aan de slag.\n \nProgramma onderde
 len:\n- Wat is Psychosomatiek & Zelfgenezing?\n- Hoe de geest op het licha
 am inwerkt en kan bijdragen aan zelfgenezing\n- De kracht en beperkingen v
 an de psychosomatische benadering\n- Hoe kom je de betekenis van organen\,
  kwaaltjes en ziekten op het spoor?\n- Hoe kun je de non-verbale signalen 
 (de lichaamstaal) verstaan?\n- Je leert een manier van werken waarbij de w
 ijsheid van het lichaam de wegwijst naar gezondheid\n- Hoe ga je van een k
 lacht naar je kracht?\n- Hoe kun je een gevoelige of zieke plek in je lich
 aam een boost geven?\n- Demonstratie-sessie(s)\n \nVoor wie?\nDeze worksho
 p Psychosomatiek & Zelfgenezing is nuttig en leerzaam voor:\n· Iedereen di
 e zich bewust(er) wil worden van wat er schuilgaat achter lichte of ernsti
 ger klachten. Je lichaam is ook een uitstekende ingang om meer licht te la
 ten schijnen op je gevoelige plekken en evt kwaaltjes!\n· Wat je leert kun
  je voor jezelf gebruiken of\, wanneer je therapeut bent\, ook in je werk 
 integreren.\n \nPraktische informatie:\n \nLet op: Je kunt alleen deelneme
 n aan de workshop als je de lezing op 11 oktober hebt gevolgd (of ooit eer
 der een lezing of online programma over dit onderwerp bij Henk hebt meeged
 aan).\n \n \nMeer over Henk Fransen en zijn werk: https://genezendvermogen
 .nl/gratis-videos/\n \n\nWanneer: 9 november 2024 - 10:00- 16:30 uur \nLoc
 atie: De nieuwe Beuk\, Dorpstraat 20 Bergen. Gratis Parkeren voor de deur 
 van de Petrus Paulus Kerk (onze locatie zit er aanvast)\nVergoeding:  € 95
 \,00 (vroegboek korting) Vroegboekkorting tot en met 15 September. (hierna
  wordt de workshop 125 euro)\n https://dehartcirkel.nl/event-menu/evenemen
 t/125-workshop-psychosomatiek-zelfgenezing-de-geestelijk-emotionele-beteke
 nis-van-organen-en-ziekten-door-henk-fransen
DTSTART:20241109T090000Z
DTEND:20241109T153000Z
LOCATION:de Nieuwe Beuk (Dorpsstraat 20\, 1861 KW Bergen\, Netherlands)
SUMMARY:Workshop: ‘Psychosomatiek & Zelfgenezing’ De geestelijk-emotionele 
 betekenis van organen en ziekten. door Henk Fransen
URL:https://dehartcirkel.nl/event-menu/evenement/125-workshop-psychosomatie
 k-zelfgenezing-de-geestelijk-emotionele-betekenis-van-organen-en-ziekten-d
 oor-henk-fransen
END:VEVENT
END:VCALENDAR
