BEGIN:VCALENDAR
VERSION:2.0
PRODID:-//https://dehartcirkel.nl///NONSGML kigkonsult.se iCalcreator 2.10.15//
METHOD:PUBLISH
BEGIN:VEVENT
UID:20260420T083718EDT-6059WlWHkd@https://dehartcirkel.nl/
DTSTAMP:20260420T123718Z
DESCRIPTION: \nHenk Fransen maakte in het voorjaar indruk met zijn lezing “
 De terugkeer van het licht”. Goed nieuws: we zijn blij om aan te kunnen ko
 ndigen dat hij dit najaar opnieuw bij de Hartcirkel in het mooie Bergen ko
 mt. Dit keer voor een lezing én een apart te boeken workshop ‘Psychosomati
 ek & Zelfgenezing’.\nJe leert een unieke manier van werken waarbij het lic
 haam je de weg wijst naar gezondheid en je aanwijzingen geeft over je leve
 nsbedoeling.\nWat is Psychosomatiek & Zelfgenezing?\nDe onbewuste signalen
  die iemands lichaam geeft\, onthullen heel subtiel de oorzaak van een aan
 doening of ziekte – dat is de kern van psychosomatiek. En diezelfde signal
 en kunnen dus ook de weg wijzen naar heling en herstel.\nHoe precies\, dat
  gaat Henk niet alleen uitleggen\, maar ook – in een demonstratiesessie – 
 laten zien. En tijdens de workshop die volgt op de lezing\, krijg je meer 
 demonstraties en ga je ook zelf met medecursisten aan de slag.\nProgramma 
 onderdelen:\n- Wat is Psychosomatiek & Zelfgenezing?\n- Hoe de geest op he
 t lichaam inwerkt en kan bijdragen aan zelfgenezing\n- De kracht en beperk
 ingen van de psychosomatische benadering\n- Hoe kom je de betekenis van or
 ganen\, kwaaltjes en ziekten op het spoor?\n- Hoe kun je de non-verbale si
 gnalen (de lichaamstaal) verstaan?\n- Je leert een manier van werken waarb
 ij de wijsheid van het lichaam de wegwijst naar gezondheid\n- Hoe ga je va
 n een klacht naar je kracht?\n- Hoe kun je een gevoelige of zieke plek in 
 je lichaam een boost geven?\n- Demonstratie-sessie(s)\nVoor wie?\nDe lezin
 g Psychosomatiek & Zelfgenezing is nuttig en leerzaam voor:\n· Iedereen di
 e zich bewust(er) wil worden van wat er schuilgaat achter lichte of ernsti
 ger klachten. Je lichaam is ook een uitstekende ingang om meer licht te la
 ten schijnen op je gevoelige plekken en eventuele kwaaltjes!\n· Wat je lee
 rt kun je voor jezelf gebruiken of\, wanneer je therapeut bent\, ook in je
  werk integreren.\n \nDeze lezing is een introductie op het onderwerp Psyc
 hosomatiek & Zelfgenezing en de workshop zal een verdieping op deze materi
 e zijn.\nPraktische informatie:\n \nMeer over Henk Fransen en zijn werk: h
 ttps://genezendvermogen.nl/gratis-videos/\n \n\nWanneer: 8 november 2024 -
  19:30 - 22.00 uur \nLocatie: De nieuwe Beuk\, Dorpstraat 20 Bergen. Grati
 s Parkeren voor de deur van de Petrus Paulus Kerk (onze locatie zit er aan
 vast)\nVergoeding:  € 22\,50 in de voorverkoop (25 euro aan de deur)\n htt
 ps://dehartcirkel.nl/event-menu/evenement/124-lezing-psychosomatiek-zelfge
 nezing-de-geestelijk-emotionele-betekenis-van-organen-en-ziekten-henk-fran
 sen
DTSTART:20241108T183000Z
DTEND:20241108T210000Z
LOCATION:de Nieuwe Beuk (Dorpsstraat 20\, 1861 KW Bergen\, Netherlands)
SUMMARY:Lezing: ‘Psychosomatiek & Zelfgenezing’ De geestelijk-emotionele be
 tekenis van organen en ziekten - Henk Fransen
URL:https://dehartcirkel.nl/event-menu/evenement/124-lezing-psychosomatiek-
 zelfgenezing-de-geestelijk-emotionele-betekenis-van-organen-en-ziekten-hen
 k-fransen
END:VEVENT
END:VCALENDAR
