BEGIN:VCALENDAR
VERSION:2.0
PRODID:-//https://dehartcirkel.nl///NONSGML kigkonsult.se iCalcreator 2.10.15//
METHOD:PUBLISH
BEGIN:VEVENT
UID:20260421T063735EDT-3549xuvV8M@https://dehartcirkel.nl/
DTSTAMP:20260421T103735Z
DESCRIPTION:Een ontdekkingsreis met Ard Pisa\nOp vrijdag avond 15 November 
 2024 komt Ard Pisa weer naar Bergen voor zijn lezing ‘Ancient Mysteries & 
 Energies’. Deze lezing is een update met nieuwe inzichten uit Bolivia\, Pe
 ru\, Turkije\, Roemenië en nieuwe persoonlijke ervaringen uit Carnac (Fran
 krijk) en Engeland/ Schotland. In Carnac deed Ard een bijzondere ontdekkin
 g met zijn partner over de werking van de menhirs aldaar. Tijdens deze lez
 ing neemt Ard jou mee langs vele mysterieuze megalithische bouwwerken en b
 ijzondere ervaringen van de spreker tijdens zijn reizen naar krachtplekken
 . \nDeze boeiende bijeenkomst wordt niet alleen voor jou gegeven maar het 
 gaat vooral over jou. Dat wordt aan het einde van deze avond duidelijk wan
 neer Ard op eigen wijze de hele zaal weet te inspireren. Als uitsmijter va
 n zijn verhaal brengt Ard je in Roemenië waar de meest onwaarschijnlijke s
 ite ooit is gevonden en hij vertelt het laatste nieuws uit dit gebied. Kor
 tom een lezing die je niet wilt missen.\nWie is Ard Pisa?\nArd is onder an
 dere actief als onderzoeker\, auteur en spreker. Eén van zijn passies is d
 e oude geschiedenis.\nEen aantal jaren geleden kwam hij achter het feit da
 t er nog nooit een mummie gevonden is een Egyptische piramide en dat piram
 ides over de hele wereld zijn te vinden.\nHij was totaal onderste boven va
 n deze feiten\; want we hebben toch geleerd dat piramides oude graftombes 
 zijn van de Farao’s? Niets is minder waar.\nNa zijn bezoek aan Ancient Sar
 dinië (Het Italiaanse eiland) wist Ard dat hij lezingen moest gaan geven o
 m mensen te laten zien dat de geschiedenis veel meer is dan dat we geleerd
  hebben vanuit onze schoolboeken.\nVoor meer informatie zie: inspiration4y
 ou.nl\n \n \n\nWanneer: 15 november 2024 - 19:00 - 22.00 uur (inloop 18:45
 )\nLocatie: De nieuwe Beuk\, Dorpstraat 20 Bergen. Gratis Parkeren voor de
  deur van de Petrus Paulus Kerk (onze locatie zit er aanvast)\nVergoeding:
  20 euro\n https://dehartcirkel.nl/event-menu/evenement/123-uitverkocht-le
 zing-ancient-mysteries-energies-ard-pisa-15-november-2024
DTSTART:20241115T180000Z
DTEND:20241115T210000Z
LOCATION:de Nieuwe Beuk (Dorpsstraat 20\, 1861 KW Bergen\, Netherlands)
SUMMARY:UITVERKOCHT! Lezing: Ancient Mysteries & Energies - Ard Pisa - 15 n
 ovember 2024
URL:https://dehartcirkel.nl/event-menu/evenement/123-uitverkocht-lezing-anc
 ient-mysteries-energies-ard-pisa-15-november-2024
END:VEVENT
END:VCALENDAR
