BEGIN:VCALENDAR
VERSION:2.0
PRODID:-//https://dehartcirkel.nl///NONSGML kigkonsult.se iCalcreator 2.10.15//
METHOD:PUBLISH
BEGIN:VEVENT
UID:20260420T083640EDT-0696zmF66a@https://dehartcirkel.nl/
DTSTAMP:20260420T123640Z
DESCRIPTION:  “De Madonna is meer dan een beeld\; het vertegenwoordigt de v
 rouwelijke ziel in iedere man en vrouw. Het is de adem van wijsheid\,” leg
 t Patty Harpenau uit.\nBeleef een unieke lezing gewijd aan The Madonna Cod
 es. Laat Patty Harpenau je op deze middag stap voor stap meenemen door de 
 Madonna Codes\, zodat je steeds meer gaat ontdekken waarom je hier bent\, 
 wat je hier te doen hebt\, en hoe je je diepste verlangens kunt vervullen.
  Na deze inspirerende kennis zul je in staat zijn om zelf het Madonnepad t
 e bewandelen\, begeleid door de interactieve meditatie onder leiding van P
 atty.\n\nPatty Harpenau\, auteur van 55 boeken over levenskunde en spiritu
 aliteit\, waaronder de internationale bestsellers The Life Codes en The An
 gel Codes\, presenteert nu haar laatste werk: The Madonna Codes. Laat je m
 eeslepen op het pad van de levensboom\, dat ze helder voor je uitstippelt\
 , en ontmoet onderweg de elf Madonna’s.\nPatty Harpenau\, auteur van 55 bo
 eken over levenskunde en spiritualiteit\, waaronder de internationale best
 sellers The Life Codes en The Angel Codes\, presenteert nu haar laatste we
 rk: The Madonna Codes. Laat je meeslepen op het pad van de levensboom\, da
 t ze helder voor je uitstippelt\, en ontmoet onderweg de elf Madonna’s.\nE
 lf iconen van wijsheid\, zoals de Madonna van liefde\, de Madonna van krac
 ht en moed\, of de Madonna van heling\, komen tot leven tijdens deze actie
 ve lezing. Ontdek hun betekenis en verrijk jezelf met deze waardevolle inz
 ichten. Laat deze avond een transformatieve reis zijn waar je niet alleen 
 kennis opdoet\, maar ook de kracht van de Madonna in jezelf ontdekt. Mis d
 eze bijzondere gelegenheid niet.\nWat kun je van Patty verwachten deze mid
 dag\;\n\nInleiding in de The Madonna Codes\nDe levensboom uit The Madonna 
 Codes\nHet Madonnapad\n\nMeer informatie over haar achtergrond: https://pa
 ttyharpenau.online\nWaar: De Nieuwe Beuk\, Dorpsstraat 20\, Bergen (naast 
 de Petrus Paulus Kerk)\nWanneer: Vrijdag avond 25 oktober 2024.\nTijdstip:
  19.30 uur tot 22 uur (19 uur inloop - kom svp op tijd)\nInvestering: 25 e
 uro https://dehartcirkel.nl/event-menu/evenement/122-cancelled-lezing-de-d
 iepere-betekenis-achter-de-madonna-24-mei-naar-25-oktober-patty-harpenau
DTSTART:20241025T173000Z
DTEND:20241025T200000Z
LOCATION:de Nieuwe Beuk (Dorpsstraat 20\, 1861 KW Bergen\, Netherlands)
SUMMARY:CANCELLED: Lezing: De diepere betekenis achter de Madonna - 24 mei 
 naar 25 oktober Patty Harpenau
URL:https://dehartcirkel.nl/event-menu/evenement/122-cancelled-lezing-de-di
 epere-betekenis-achter-de-madonna-24-mei-naar-25-oktober-patty-harpenau
END:VEVENT
END:VCALENDAR
