BEGIN:VCALENDAR
VERSION:2.0
PRODID:-//https://dehartcirkel.nl///NONSGML kigkonsult.se iCalcreator 2.10.15//
METHOD:PUBLISH
BEGIN:VEVENT
UID:20260420T083449EDT-5303Sx2ErT@https://dehartcirkel.nl/
DTSTAMP:20260420T123449Z
DESCRIPTION:Haar verhaal dat 2000 jaar lang verzwegen werd.\nHet was eigenl
 ijk geen keuze voor Geert Kimpen om dit boek over Maria Magdalena te schri
 jven. Het was het inlossen van een belofte.\nEen zwaarwegende belofte die 
 hij tien jaar lang voor zich had uitgeschoven. Tot de tekenen zo dwingend 
 werden\, dat hij niet anders kon dan luisteren.\nTijdens deze lezing neemt
  Geert Kimpen je mee op zijn reis bij het tot stand komen van dit boek dat
  hem tot het uiterste uitdaagde in zijn man-zijn en schrijverschap. Hoe hi
 j ontdekte dat precies die reflexen die ervoor zorgden dat niet alleen Mar
 ia Magdalena maar ook het vrouwelijke in het algemeen\, duizenden jaren la
 ng onderdrukt werden\, ook in hemzelf zaten. Hoe hij moest leren zich over
  te geven en te buigen voor het vrouwelijke.\nOp zijn kenmerkende\, enthou
 siaste manier\, deelt hij niet alleen zijn persoonlijke verhaal\, maar ook
  de verborgen geschiedenis van Maria Magdalena. De vrouw die bijna 2000 ja
 ar lang een hoer en zondares werd genoemd tot ze in deze tijd eindelijk de
  erkenning verdient die haar altijd al toekwam. Een avond als eerherstel e
 n eerbetoon van het mannelijke aan het vrouwelijke.\nMet natuurlijk ook ee
 n stem door het vrouwelijke zélf van Michelle Shanti\, die afstemt op een 
 boodschap van Maria Magdalena en dan het publiek meeneemt op een inspirere
 nde meditatie-reis\, zoals alleen Michelle dat kan.\nOmdat elke vrouw een 
 godin is!\nOver het boek:\nMaria Magdalena is vastbesloten Jezus’ boodscha
 p uit te dragen in de wereld. Tot ze ontdekt dat haar eigen boodschap mins
 tens zo belangrijk is. Haar boodschap van vrouwelijke wijsheid die Jezus i
 n zijn kracht had gezet.\nZal ze erin slagen haar stem te laten horen in e
 en vijandige wereld die geen interesse heeft in wat vrouwen te vertellen h
 ebben? Zal ze durven om te gaan staan voor de kracht van vrouwelijke seksu
 aliteit? Zal ze hem kunnen blijven liefhebben zonder zichzelf te verlooche
 nen? Zal ze een manier vinden om ondanks alle tegenstand ervoor te zorgen 
 dat men ook 2000 jaar later haar niet vergeten zal?\nHaar nooit eerder ver
 telde verhaal na de kruisiging.\nGeert Kimpen\nTien jaar lang stelde auteu
 r Geert Kimpen\, bekend van onder meer De kabbalist en Het meisje dat aan 
 de oever verscheen\, het schrijven van deze roman uit. Tot de tekenen zo k
 rachtig waren dat hij er niet langer voor kon weglopen. Het was sterven of
  schrijven.\nGebaseerd op eeuwenoude legenden\, verboden apocriefe geschri
 ften\, teruggevonden gnostische boeken en evangeliën en de scherpe visioen
 en van zijn vrouw Michelle Shanti\, reconstrueerde auteur Geert Kimpen Mar
 ia Magdalena’s verhaal in deze inspirerende roman.\n‘Dank\,’ zei Brighid\,
  ‘namens alle vrouwen uit het verleden\, het heden en de toekomst. Voor he
 n zal jij de vrouwelijke Messias zijn. Jij bent de roos der rozen.’\nMeer 
 informatie: www.geertkimpen.com\nWanneer: Vrijdag avond 28 juni\nTijdstip:
  19.30 tot 22 uur (inloop 19.00 uur)\nLocatie: De Nieuwe Beuk - Dorpsstraa
 t nr. 20 (Achter de Petrus Paulus Kerk) - Bergen N.H.\nInvestering: 20 eur
 o https://dehartcirkel.nl/event-menu/evenement/121-lezing-de-belofte-aan-m
 aria-magdalena-28-juni-door-auteurs-geert-kimpen-michelle-shanti
DTSTART:20240628T173000Z
DTEND:20240628T200000Z
LOCATION:de Nieuwe Beuk (Dorpsstraat 20\, 1861 KW Bergen\, Netherlands)
SUMMARY:LEZING: De belofte aan Maria Magdalena - 28 Juni door auteurs Geert
  Kimpen & Michelle Shanti
URL:https://dehartcirkel.nl/event-menu/evenement/121-lezing-de-belofte-aan-
 maria-magdalena-28-juni-door-auteurs-geert-kimpen-michelle-shanti
END:VEVENT
END:VCALENDAR
