BEGIN:VCALENDAR
VERSION:2.0
PRODID:-//https://dehartcirkel.nl///NONSGML kigkonsult.se iCalcreator 2.10.15//
METHOD:PUBLISH
BEGIN:VEVENT
UID:20260422T063924EDT-93059v4u51@https://dehartcirkel.nl/
DTSTAMP:20260422T103924Z
DESCRIPTION:Living Truth ~ Healing from The Heart \n\nOok voor de maand Dec
 ember hebben we weer een Healing Satsang weekend met Yessica gepland staan
 ! Kom gezellig meedoen als je wilt ervaren wat ontspannen is op een heel d
 iep niveau. \n\nWEEKEND Healing Satsang met Yessica\n\n21 en 22 December\n
 \nWe zullen het weekend starten op zaterdagochtend om 10 uur (inloop vanaf
  9.30 uur) en we eindigen de zaterdag rond 21.15 uur. Op zondag starten we
  ook weer in de ochtend en het programma zal rond 18 uur eindigen.\n\nWe h
 ebben weer dezelfde prachtige plek geboekt: dichtbij de natuur – rust en s
 tilte – en makkelijk (gratis) parkeren. Ook als jij fysieke of geestelijke
  uitdagingen hebt dan kun je bij dit weekend veel baat hebben. \n\nWees we
 lkom!\n\n\n\nHoe kunnen we met elkaar in waarheid rusten en ontdekken wie 
 we werkelijk zijn?\n\nSamen diep kijken naar hoe het leven zich ontvouwt\,
  inclusief alle belemmerende gewoontepatronen\, elkaar in waarheid ontmoet
 en en vrijheid & heling vinden? \n\nIndien leven als onvoorwaardelijke lie
 fde en compassie jouw interesse heeft\, dan ben je van Harte uitgenodigd b
 ij deze weekend intensive.\nSamen Rusten in Zijn en de diepste lagen van d
 e menselijke worsteling tot rust te laten komen\, dat is onze uitnodiging.
 \n\nDe Satsang sessies met Yessica zijn in het – inmiddels voor velen beke
 nde – format van geleide meditatie\, diepe ontspanning en inter-actief Zel
 f-onderzoek.\n\nHet samen diep kijken naar en helen van de pijn achter bel
 emmerende gewoontepatronen en het samen luisteren naar De Stilte achter de
  Geluiden van Het Leven. Hierin herkennen we onze Ware Aard.\n\n‘Het gaat 
 er simpelweg om\, om aanwezig te zijn met wat er NU is. Pijn\, berouw\, tw
 ijfels\, verlangens\, angsten\, boosheid: het zijn in wezen geen fouten. Z
 e vragen – ten diepste – niet om geheeld te worden… want het ware Zelf is 
 al heel! Wat het ‘nodig’ heeft is om omarmd te worden. Hier\, nu\, zacht e
 n in de liefdevolle aanwezigheid van bewustzijn.’\n\n\nOver Yessica\n\nYes
 sica fasciliteert ontmoetingen in de traditie van Satsang\, het Samen Zijn
  in\, en onderzoeken van Waarheid.\nHaar pad van spiritueel ontwaken liep 
 voornamelijk via Sri Nisargadatta Maharaj\, Gangaji\, en Mooji in de tradi
 tie van Sri Ramana Maharshi en Sri H.W.L. Poonja (beter bekend als Papaji)
 \, de bekende Indiase leermeesters in de traditie van non-dualiteit.\n\nDe
  unieke combinatie met vormen van trauma-heling zoals geleerd van Brandon 
 Bays (The Journey) en Isaac Shapiro\, ook een leerling van Papaji\, maken 
 haar open avond meetings\, helende dagworkshops\, weekend intensives en re
 traites een bijzondere variatie op traditionele Satsang.\nWebsite: Healing
  Satsang\n\n\nTestimonials van deelnemers aan zondag workshops en intensiv
 e weekend:\n\n\n'Lieve Yessica\, ik wil graag vertellen hoe bijzonder ik d
 e intensive vond! Precies de uitdrukking van waar jij zo begaafd in bent..
 . een heel diep intieme sfeer creëren waarin mensen veel van zichzelf late
 n zien en bereid zijn diep te kijken in hun problematiek. Dit is hoe jij m
 ensen op een dieper begrijpen brengt. Dank!'\n\n\n\n“Lieve Yessica\, je he
 bt een unieke manier om mensen tot Het Zelf te brengen! Dank je wel!'\n\n
 \n\n“Beste Yessica\, ik wil je laten weten dat je een rem in mij hebt losg
 emaakt waar ik al heel mijn leven last van heb gehad! Dank je wel!'\n\n\n
 \nDit geheel verzorgde weekend (inclusief 2x warme biologische lunch\, 1x 
 overheerlijke gezonde biologische diner\, koffie/thee/fris/fruit en lekker
 s) bieden we aan voor 170 euro voor de Early Birds t/m 5 december\, daarna
  197 euro.\n\nVoor koppels is deze intensive ook zeer aan te raden om same
 n naar diepe relatiepatronen te kijken en hebben we een speciale 'koppel-p
 rijs' van €300\,- per paar in de early bird periode en €357\,- p/paar daar
 na.\n\nVoor Early Birds boekingen moeten deze betaald zijn op uiterlijk 5 
 december\, 2019\n\nDe maaltijden zijn zoveel mogelijk biologisch en vegeta
 risch. Bovendien hebben we een team van drie ondersteuners.\n\nWe hebben b
 ed and breakfast contacten al vanaf 20 euro per nacht. Natuurlijk kun je o
 ok gewoon lekker thuis slapen als je in de buurt woont.\n\nOmdat we het kl
 einschalig en intiem willen houden\, zijn er een beperkt aantal plekken be
 schikbaar!  \n\nLocatie:\nSoulBalance\nVreekesweid 1\n1721PP Broek op Lang
 edijk\nSoulBalance.nl\n\n\n* Het bedrag kan worden overgemaakt op rekening
 nr. NL44 INGB 0796 8731 43\, H.J. Borst\, onder vermelding van: “Satsang m
 et Yessica”\n\n https://dehartcirkel.nl/event-menu/evenement/12-weekend-he
 aling-satsang-met-yessica-december-2019
DTSTART:20191221T090000Z
DTEND:20191222T170000Z
LOCATION:SoulBalance (Vreekesweid 1 1721PP Broek op Langedijk)
SUMMARY:WEEKEND 'Healing Satsang' met Yessica December 2019
URL:https://dehartcirkel.nl/event-menu/evenement/12-weekend-healing-satsang
 -met-yessica-december-2019
END:VEVENT
END:VCALENDAR
