BEGIN:VCALENDAR
VERSION:2.0
PRODID:-//https://dehartcirkel.nl///NONSGML kigkonsult.se iCalcreator 2.10.15//
METHOD:PUBLISH
BEGIN:VEVENT
UID:20260420T062035EDT-7696xujHKa@https://dehartcirkel.nl/
DTSTAMP:20260420T102035Z
DESCRIPTION:'We are entering a time of change\, in a way different from wha
 t we have experienced up until now. The last few years have been quite a r
 ide for most of you. Let's dive into some aspects from that timeline and e
 xplore what this year will bring. We'll look into how we can manifest our 
 health and hearts in the best way. With all changes come challenges\, but 
 with love in our hearts and faith in our souls\, we can view these challen
 ges as opportunities for transformation. Let the year begin! \nThis friday
  evening will be an interactive 'lecture' where you are all welcome to bri
 ng whatever questions you have in your heart or on your mind. Nothing is e
 ver too big nor too small. You are so welcome to join us. \nElisa Namaste 
 is an inspirational speaker. A clairvoyant influencer\, in oneness with ev
 erything around her and a key to knowledge and transformation.\nShe is dev
 oted to help humanity to see its full potential. Making us aware that we h
 ave a choice of freedom and love within.\nOp 24 maart is er de mogelijkhei
 d om een privé-consult te boeken van 30 minuten. Stuur een mail naar: ilon
 a@dehartcirkel.nl als je interesse hebt.\nwww.elisanamaste.com\n \n\nWanne
 er: vrijdagavond 23 Februari - Tijdstip: 19 uur inloop - 19.30 tot ongevee
 r 21.30 uur\nWaar: De Nieuwe Beuk te Bergen\, Dorpsstraat nr. 20 (beperkt 
 gratis parkeren naast de Petrus Paulus Kerk\, onze locatie zit hier achter
 )\nInvestering: 20 euro\n https://dehartcirkel.nl/event-menu/evenement/117
 -interactive-gathering-elisa-namaste-deze-bijeenkomst-is-in-het-engels
DTSTART:20240223T183000Z
DTEND:20240223T203000Z
LOCATION:de Nieuwe Beuk (Dorpsstraat 20\, 1861 KW Bergen\, Netherlands)
SUMMARY:Interactive gathering  Elisa Namaste (Deze bijeenkomst is in het En
 gels)
URL:https://dehartcirkel.nl/event-menu/evenement/117-interactive-gathering-
 elisa-namaste-deze-bijeenkomst-is-in-het-engels
END:VEVENT
END:VCALENDAR
