BEGIN:VCALENDAR
VERSION:2.0
PRODID:-//https://dehartcirkel.nl///NONSGML kigkonsult.se iCalcreator 2.10.15//
METHOD:PUBLISH
BEGIN:VEVENT
UID:20260420T082015EDT-8677GMFz9O@https://dehartcirkel.nl/
DTSTAMP:20260420T122015Z
DESCRIPTION:“Je grootste potentieel is je goddelijke blauwdruk diep vanbinn
 en. Om het te realiseren heb je alleen je eigen bewustzijn nodig. Dat door
 dringt\, heelt en activeert jouw unieke energetische opmaak.”\nIn een tijd
  waarin veel oude structuren niet meer werken\, duisternis naar de oppervl
 akte komt\, en veel onzeker lijkt\, is er ook goed nieuws. \nAl moet je da
 arvoor wel je perspectief wat veranderen. Maar met een andere bril op zie 
 je dat in het donker zuivering\, heling en transformatie plaatsvinden. All
 ereerst van je eigen bewustzijn\, daarna ook van het collectieve bewustzij
 n. Dit is het vrouwelijke perspectief.\nAls haar huwelijk uit elkaar valt\
 , besluit Hermelijn van der Meijden op reis te gaan. Ze vertrekt naar Kret
 a\, Egypte en Ierland\; op zoek naar de vrouw die ze werkelijk is. Niet de
  echtgenote of de moeder van\, maar de ziel die ze ergens onderweg verlore
 n is. In een soul search die twee jaar duurt\, vindt ze niet alleen haar e
 igen hart terug\, maar stuit ze bovendien op cruciale informatie die in de
  loop van de geschiedenis in onbruik raakte. Vergeten wijsheid over de vro
 uwelijke natuur. Ze ontsluit het ‘donkere mysterie’ dat verdween uit het c
 ollectieve bewustzijn\, dat gaat over ons onderbewuste en de kennis die da
 ar over heling\, transformatie\, kracht\, liefde\, mystiek en natuurlijke 
 cycli is opgeslagen. In haar boek De Negen Geheimen van de Vrouw vertelt z
 e op zeer persoonlijke\, grappige en voelbare wijze haar verhaal dat van a
 lles in lezers oproept.\nTijdens deze bijeenkomst zal Hermelijn ingaan op 
 het Watermantijdperk dat aanbreekt\, het vrouwelijke potentieel dat wakker
  wordt\, de kracht van het donker en het mysterie van de maan. En waarom h
 et voor alle mensen en de planeet goed is als we gaan kijken vanuit dat vr
 ouwelijke perspectief.\nEr is gelegenheid om vragen te stellen\, en de sub
 tiele informatie van het energieveld in te duiken. Want behalve schrijver 
 is Hermelijn healer\, reader en Energy Trainer. \nHermelijn van der Meijde
 n\nZowel als schrijver en trainer houdt Hermelijn zich bezig met energie\,
  transformatie en het vrouwelijke potentieel. Want als er iets onbenut is 
 in de wereld\, dan is het wel dát potentieel! Wat zou er gebeuren als alle
  vrouwen zichzelf toegang verschaffen tot hun seksualiteit\, sensualiteit\
 , intuïtieve vermogen\, creativiteit en liefde? \nZe studeerde Nederlands 
 en is bladenmaker geweest. In 2005 startte ze aan de Barbara Brennan Schoo
 l of Healing\; vijf jaar intensieve training volgden. Tegelijkertijd deed 
 ze een readingopleiding en ontmoette ze veel sjamanen\, healers en leraren
  van over de hele Wereld. Meer informatie over haar: www.hermelijnvanderme
 ijden.nl\nHaar boeken zijn tijdens deze avond te koop!\n\nWanneer: vrijdag
 avond 5 april\, 2024 -  19.00 uur inloop - start 19.30 +/- uur tot ongevee
 r 21.30 u.\nWaar: De Nieuwe Beuk te Bergen\, Dorpsstraat nr. 20 (beperkt g
 ratis parkeren naast de Petrus Paulus Kerk\, onze locatie zit hier achter)
 \nInvestering: 20 euro\n https://dehartcirkel.nl/event-menu/evenement/116-
 lezing-de-kracht-van-het-donker-het-mysterie-van-de-maan-5-april-door-herm
 elijn-van-der-meijden
DTSTART:20240405T173000Z
DTEND:20240405T193000Z
LOCATION:de Nieuwe Beuk (Dorpsstraat 20\, 1861 KW Bergen\, Netherlands)
SUMMARY:Lezing: De kracht van het donker & het mysterie van de maan - 5 Apr
 il door Hermelijn van der Meijden 
URL:https://dehartcirkel.nl/event-menu/evenement/116-lezing-de-kracht-van-h
 et-donker-het-mysterie-van-de-maan-5-april-door-hermelijn-van-der-meijden
END:VEVENT
END:VCALENDAR
