BEGIN:VCALENDAR
VERSION:2.0
PRODID:-//https://dehartcirkel.nl///NONSGML kigkonsult.se iCalcreator 2.10.15//
METHOD:PUBLISH
BEGIN:VEVENT
UID:20260422T061211EDT-3489BffawV@https://dehartcirkel.nl/
DTSTAMP:20260422T101211Z
DESCRIPTION:Bijeenkomst: De Tzolkin voor innerlijke vrede.\nOnze Gregoriaan
 se kalender is lineair van aard. Dit betekent dat de dag van vandaag\, gis
 teren\, vorige week of eerder niet terugkomt.\nDe Tzolkin\, de heilige kal
 ender van de oude Maya\, benadert de tijd als een spiraal. Door je bewust 
 te zijn van de spiraalwerking van de tijd\, ga je ervaren dat tijd kwalite
 it is. Hierdoor ontstaat het inzicht dat wat aan tijd achter ons ligt\, ge
 en verloren tijd is\, maar dat alles wat er in ons verleden is gebeurd\, i
 mpulsen waren om te groeien.\nOm het wezenlijke van de Tzolkin te begrijpe
 n is hetbelangrijk dat je je realiseert dat deze scheppingsmatrix de spira
 albeweging volgt van de energieën die iedere dag op je afkomen.\nDoor het 
 raadplegen van de Tzolkin krijg je inzicht in de cyclische beweging van de
  gebeurtenissen die in jouw leven hebben plaatsgevonden. Je ontwikkelt hie
 rdoor bewustzijn over alles wat je voor je ontwikkeling hebt meegemaakt.\n
 Kees en Barbara vertellen je hoe je met behulp van de Tzolkin inzicht krij
 gt in de blauwdruk en de routekaart van je leven. Wanneer je je voor hun p
 resentatie opgeeft\, geef dan ook je geboortedatum op. Zij zullen aan de h
 and van je naam en deze datum een korte omschrijving van je geboortepotent
 ieel meenemen. Tijdens en na hun presentatie heb je de mogelijkheid om hie
 rover vragen te stellen.\nVoor velen is het werken met de Tzolkin een leve
 nsbepalende ervaring. Niet langer meer slachtoffer van de omstandigheden t
 e voelen\, maar inzicht te hebben over de reden waarom bepaalde gebeurteni
 ssen hoe dan ook hebben moeten plaatsvinden.\nKees en Barbara hebben hun r
 uim kwarteeuw kennis en ervaring ondergebracht in een kennissysteem\, die 
 via hun website ‘Kinweb.eu’ voor je te benaderen is. In de loop van het ja
 ar mag je van hun de heruitgave van hun bestseller ‘De Tzolkin Openbaart J
 e Potentieel’ tegemoet zien.\n \n\nWanneer: zaterdagmiddag 20 april\, 2024
  -  13.30 uur inloop - start 14 uur tot ongeveer 17 uur.\nWaar: De Nieuwe 
 Beuk te Bergen\, Dorpsstraat nr. 20 (beperkt gratis parkeren naast de Petr
 us Paulus Kerk\, onze locatie zit hier achter)\nInvestering: 20 euro\n htt
 ps://dehartcirkel.nl/event-menu/evenement/115-uitverkocht-bijeenkomst-de-t
 zolkin-voor-innerlijke-vrede-20-april-2024-door-kees-barbara
DTSTART:20240420T120000Z
DTEND:20240420T150000Z
LOCATION:de Nieuwe Beuk (Dorpsstraat 20\, 1861 KW Bergen\, Netherlands)
SUMMARY:UITVERKOCHT! Bijeenkomst: De Tzolkin voor innerlijke vrede - 20 Apr
 il 2024 door Kees & Barbara
URL:https://dehartcirkel.nl/event-menu/evenement/115-uitverkocht-bijeenkoms
 t-de-tzolkin-voor-innerlijke-vrede-20-april-2024-door-kees-barbara
END:VEVENT
END:VCALENDAR
