BEGIN:VCALENDAR
VERSION:2.0
PRODID:-//https://dehartcirkel.nl///NONSGML kigkonsult.se iCalcreator 2.10.15//
METHOD:PUBLISH
BEGIN:VEVENT
UID:20260420T083133EDT-1209ajOx1P@https://dehartcirkel.nl/
DTSTAMP:20260420T123133Z
DESCRIPTION:Het Verhaal voorbij Ruimte en Tijd\nEind 2023 maakte Janet Osse
 baard de transitie van deze wereld naar de volgende. \nZo’n 30 jaar gelede
 n begon Bert Janssen samen met Janet aan een groot avontuur en de transiti
 e van Janet is voor Bert Janssen het moment geweest om de balans op te mak
 en. In de achterliggende jaren heeft hij samen met Janet het nodige meegem
 aakt en ontzettend veel geleerd\, waarbij de vele ‘toevalligheden’ die zij
 n pad kruisten hem op het spoor hebben gezet van een wereld voorbij onze d
 agelijkse realiteit. De plaats waar het bekende en het onbekende elkaar on
 tmoeten.\nUiteindelijk kwam hij tot de conclusie dat er een ‘Ordenend Prin
 cipe’ is\, waarmee we actief kunnen communiceren en samenwerken. Hoe meer 
 we hiervan bewust zijn\, hoe actiever we kunnen participeren. Tijd\, ruimt
 e en plaats zijn hierbij niet relevant.\nBert Janssen zal je in een gloedv
 ol betoog meenemen naar alle hoeken en gaten van dit nagenoeg ongrijpbare\
 , maar ons welgezinde ‘Ordenend Principe’.\nEen verhaal dat begint met de 
 jarenlange ontdekkingsreis die hij samen met Janet Ossebaard ondernam\, ma
 ar die daar niet mee eindigde.\nEen intens en meeslepend verhaal… Over syn
 chroniciteiten en bijzondere ontmoetingen\; Over graancirkels\, leylijnen 
 en andere vormen in het landschap\; Over wonderen en verwonderen\; Over ti
 jd\, ruimte en acausaliteit\; Over het ‘complexio oppositorum’\, de wereld
  van schijnbare tegenstellingen en over de kracht van samen\; en over Jane
 t Ossebaard en wat zij heeft betekend voor de wereld.\nEen verhaal over wa
 t de kern is waardoor vele wonderbaarlijke zaken gebeuren en hoe je daar z
 elf een rol in kunt spelen.\nEen verhaal dat op allerlei manieren onder je
  huid gaat zitten en dat nog dagen\, zo niet weken\, zal nagalmen.\nBio Be
 rt Janssen\nBert Janssen is bekroond auteur\, avonturier en flamboyant ver
 halenverteller. Lang geleden is hij de mysterieuze wereld van de kwantum f
 ysica\, Gotische kathedralen\, graancirkels\, Inka sjamanisme\, Carl Gusta
 v Jung\, oude krachtplaatsen\, etc\, binnengestapt.\nInmiddels heeft hij 4
  documentaires gemaakt\, 5 boeken geschreven en heeft hij zijn opwachting 
 gemaakt in vele radio- en Tv-programma’s.\nIn wervelende en sprankelende o
 ptredens - gevuld met een lach\, een traan\, drama en dreunend dynamiet - 
 maakt hij je deelgenoot van verbazingwekkende zaken\, messcherpe to-the-po
 int analyses en reikt hij je handvaten aan waar je wat mee kunt.\nBert Jan
 ssen keert je binnenstebuiten en ondersteboven\, maar zodra de orkaan is g
 aan liggen en het stof neer gedwarreld\, zul je je niet alleen herboren vo
 elen\, maar het ook zijn.\n\nWanneer: zaterdagmiddag 23 maart\, 2024 -  13
 .30 uur inloop - start 14 uur tot ongeveer 17 uur.\nWaar: De Nieuwe Beuk t
 e Bergen\, Dorpsstraat nr. 20 (beperkt gratis parkeren naast de Petrus Pau
 lus Kerk\, onze locatie zit hier achter)\nInvestering: 20 euro\n https://d
 ehartcirkel.nl/event-menu/evenement/114-lezing-het-verhaal-voorbij-ruimte-
 en-tijd-23-maart-door-bert-janssen
DTSTART:20240323T130000Z
DTEND:20240323T160000Z
LOCATION:de Nieuwe Beuk (Dorpsstraat 20\, 1861 KW Bergen\, Netherlands)
SUMMARY:Lezing: Het Verhaal voorbij Ruimte en Tijd - 23 maart door Bert Jan
 ssen
URL:https://dehartcirkel.nl/event-menu/evenement/114-lezing-het-verhaal-voo
 rbij-ruimte-en-tijd-23-maart-door-bert-janssen
END:VEVENT
END:VCALENDAR
