BEGIN:VCALENDAR
VERSION:2.0
PRODID:-//https://dehartcirkel.nl///NONSGML kigkonsult.se iCalcreator 2.10.15//
METHOD:PUBLISH
BEGIN:VEVENT
UID:20260420T063618EDT-0294bUJRNt@https://dehartcirkel.nl/
DTSTAMP:20260420T103618Z
DESCRIPTION:Als je op zoek bent naar wat licht in de dagen die steeds korte
 r worden\, kom dan naar de poëtische avond: 'Sharing the Light'.\n\nEen fe
 elgood-belevenis waarin de magische poëzie van Kagiso Universalis naadloos
  afgewisseld wordt met de transformerende muziek van Anna en Remco.\n\nJaa
 p - Kagiso- Bierman is een dichter en performer van de Nieuwe Tijd. Met de
  flair van een troubadour\, vindingrijk woordenspel en met frisse oprechth
 eid brengt hij zijn hoopvolle boodschap helder bij je over.\n\nZijn dichte
 rlijke verhalen brengen je in vervoering naar een andere werkelijkheid\; w
 aar ieder natuurverschijnsel een stem en een boodschap heeft.\n\nWaar het 
 leven zelf een wezen is waar je mee kunt praten.\n\nAl dit moois wordt muz
 ikaal omlijst door Anna Spohr (zang\, gitaar\, ukelele) en Remco Hooijkaas
  (zang\, gitaren). Zij brengen een aanstekelijke mix van poppy mantra’s en
  verwarmende heartsongs\, waarbij eenieder zich van harte uitgenodigd zal 
 voelen om mee te zingen\, en waarin de Liefde de hoofdrol speelt.\n\nVerge
 zeld van een korte meditatie hier en daar\, wordt de verbinding in zachthe
 id versterkt.\n\n\n\nAnna heeft lang gewerkt als mindfulness-trainer\, van
 uit de leer van het Tibetaans Boeddhisme\, en heeft zich met hart en ziel 
 en haar prachtige zangstem aan de muziek verbonden. Als kraamverzorgster m
 aakt zij tevens muziek bij bevallingen.\n\nHaar (muzikale) partner Remco i
 s een door-de-wol-geverfde muzikant die elk muziekstuk met subtiel getokke
 l of stevige ritmes verlevendigt\, en met uitgekiende harmonieën naar een 
 hoger plan tilt.\n\nDe krachtige en zelfverzekerde voordracht van Kagiso h
 elpt zijn boodschap in klare taal bij je te laten landen. Dit terwijl zijn
  golvende cadans je meevoert\, en vasthoudt van begin tot het einde. De jo
 nge dichter (27jaar) kan je niet alleen helpen voelen dat alles verbonden 
 is\, maar hij kan je laten zien hoe.\n\nEen ontmoeting met deze unieke sam
 ensmelting van poëzie\, muziek en spiritualiteit staat garant voor een har
 tverwarmende en onvergetelijke ervaring.\n\n \n\n\nWanneer:  Zaterdagmidda
 g 16 December\, 15 uur tot ongeveer 17.30 uur. (met pauze). De inloop is v
 anaf 14.30 uur. \n\nLocatie: De nieuwe Beuk\, Dorpstraat 20 Bergen. Gratis
  Parkeren voor de deur van de Petrus Paulus Kerk (onze locatie zit daarach
 ter) \n\nVergoeding: 20 euro\n\n \n\n https://dehartcirkel.nl/event-menu/e
 venement/113-sharing-the-light-16-december-in-bergen
DTSTART:20231216T140000Z
DTEND:20231216T163000Z
LOCATION:de Nieuwe Beuk (Dorpsstraat 20\, 1861 KW Bergen\, Netherlands)
SUMMARY:Sharing the Light - 16 December in Bergen
URL:https://dehartcirkel.nl/event-menu/evenement/113-sharing-the-light-16-d
 ecember-in-bergen
END:VEVENT
END:VCALENDAR
