BEGIN:VCALENDAR
VERSION:2.0
PRODID:-//https://dehartcirkel.nl///NONSGML kigkonsult.se iCalcreator 2.10.15//
METHOD:PUBLISH
BEGIN:VEVENT
UID:20260420T082620EDT-61388imRms@https://dehartcirkel.nl/
DTSTAMP:20260420T122620Z
DESCRIPTION:Deze inspiratie ‘lezing’ is geen consumptie voor de mind of een
  feelgood moment voor de geest. Het is een krachtuitwisseling die radicaal
  ruimte mag krijgen in jouw bestaan. Er kan een moment van diep besef\, da
 t jij zoveel krachtiger bent dan je denkt worden geopend. Het is een tijd 
 dat jij werkelijk leiding neemt in alle dimensies en frequenties.\n\nJij b
 ent als oorspronkelijk mens hier nu aanwezig. Lijd jij? Of pak je leiding 
 met je bewustzijn?\n\nBesproken topics zijn:\n\n\n	De kracht van gedachten
 \n	De kracht van het hart\n	De kracht van emotie\n	De kracht van jouw bewu
 stzijn\n	De kracht van de kosmische mens\n\n\nEen vragen VUUR aan jou als 
 Mens\n\n\n	Wie ben jij werkelijk als mens?\n	Kies je wat je voelt?\n	Waaro
 m doe je wat je doet?\n	Wat wil je het liefst zien?\n	Waar ben je liever n
 iet aanwezig?\n	Wie of wat bepaalt jouw leven?\n	Sta jij aan het stuur?\n	
 Denk je dat je bestaat of voel je dat je bestaat?\n	Waarom besta jij in de
 ze werkelijkheid?\n\n\nMochten deze vragen jou een gevoel van uitnodiging 
 geven om dieper in jouw menselijk bewustzijn te willen landen? Dan kan jij
  kiezen voor een ont-moeting zonder iets te moeten\, of te volgen.\n\nRich
 ard Pols\n\n\n\n \n\n \n\n \n\n \n\n'Ik ervaar mezelf als een mens en kosm
 isch reiziger in deze werkelijkheid. Na jaren van zelfonderzoek en verschi
 llende zijpaden te hebben bewandeld ben ik aangekomen in het NU. In het NU
 -moment kan alles ontstaan en ligt niets vast tot dat ik het waarneem vanu
 it de bron.\n\nDoor mijn eigen ervaringen en vragen heb ik mijn eigen werk
 elijkheid onderzocht. Ik ben mezelf steeds meer bewust geworden van mijn g
 ewoontes en programma’s die mij belemmeren volledig vanuit mijn bron te le
 ven. Door deze programma’s vanuit mijn hart samen met mijn hoofd\, kwantum
  fysisch waar te nemen\, zijn er veranderingen in mijn werkelijkheid ontst
 aan die ik niet vanuit mijn “oude” denken voor mogelijk had gehouden.'   
 \n\nMeer informatie: www.bronkracht.nl\n\n\nWanneer: 20 oktober 2023 - 19:
 30 - 22.00 uur\n\nLocatie: De nieuwe Beuk\, Dorpstraat 20 Bergen. Gratis P
 arkeren voor de deur van de Petrus Paulus Kerk (onze locatie zit er aanvas
 t)\n\nVergoeding: 15 euro\n\n https://dehartcirkel.nl/event-menu/evenement
 /112-inspiratie-lezing-de-kracht-in-de-mens-door-richard-pols-20-oktober
DTSTART:20231020T173000Z
DTEND:20231020T200000Z
LOCATION:de Nieuwe Beuk (Dorpsstraat 20\, 1861 KW Bergen\, Netherlands)
SUMMARY:Inspiratie 'lezing' de Kracht in de Mens door Richard Pols - 20 okt
 ober
URL:https://dehartcirkel.nl/event-menu/evenement/112-inspiratie-lezing-de-k
 racht-in-de-mens-door-richard-pols-20-oktober
END:VEVENT
END:VCALENDAR
