BEGIN:VCALENDAR
VERSION:2.0
PRODID:-//https://dehartcirkel.nl///NONSGML kigkonsult.se iCalcreator 2.10.15//
METHOD:PUBLISH
BEGIN:VEVENT
UID:20260420T081049EDT-34741xU2TJ@https://dehartcirkel.nl/
DTSTAMP:20260420T121049Z
DESCRIPTION:Op zondag 3 September komt Avi Adir naar Bergen voor een 'free 
 your authentic voice-workshop' en op vrijdag avond 1 September voor een co
 ncert met aansluitend - voor wie wil - een after party jamsessie.\n\nAvi i
 s een inspiratie voor velen. Hij verblijft vaak in India\, maar reist met 
 zijn muziek en workshops over de hele wereld. Met bouzouki\, bansuri\, dwa
 rsfluiten\, ney\, duduk\, shakuhachi\, harmonium\, zang en loopstation wee
 t hij een unieke sfeer te creëren.\n\nDe workshop gaat over je authentieke
  stem te laten horen\, om jouw verhaal te laten klinken zonder voorbehoud.
  Het is prachtig om te zien hoe Avi dit begeleid en aan het einde van de w
 orkshop iedereen - voor wie dat wil - zijn/haar eigen verhaal mag gaan zin
 gen. Er is geen ervaring vereist om hieraan mee te doen.\n\n\n\nHieronder 
 in het Engels.\n\nTitle of the workshop: Free Your Authentic Voice with Av
 i Adir Unleash your authentic voice and awaken your musical spirit with Av
 i Adir's vocal workshop. \n\nAvi is a nomadic musician and multi-instrumen
 talist who has been touring the world with his concerts and vocal workshop
 s for over a decade. In this workshop\, Avi will guide you through a power
 ful breathing technique that helps you control your voice and synchronize 
 it with the breath of life. You'll explore the healing power of vocalizati
 on and learn to use your voice as a musical instrument for free-flow impro
 visation. Whether you're a beginner or an experienced musician\, this work
 shop is for you. No prior experience with singing or playing an instrument
  is required. Discover how your voice can express your core being and conn
 ect you with others through wave vibrations. Explore tonality and rhythm t
 o enable your voice to dance in a more authentic and rooted flow. Join Avi
  for a musical vocal breath experience that will awaken your neglected mus
 ical nature. Sign up now and free your authentic voice. \n\nVideo links:\n
 \nConcert: https://youtu.be/Xbn1UPz11-A Workshop: https://youtu.be/G7A_Xqk
 dfes \n\nSpotify: https://open.spotify.com/artist/4xm1gUJhmjuq2rrHzxOQyJ?s
 i=s4-uf7CMSOGLawIRGpLSGg \n\nLocatie: Grote Heklaantje nr. 5 in Bergen n.h
 .\n\nTijdstip: 3 september\, 2023 13 tot ongeveer 17 uur (inloop vanaf 12.
 30 uur)\n\nInvestering: 75 euro\n https://dehartcirkel.nl/event-menu/evene
 ment/110-workshop-free-your-authentic-voice-met-avi-adir-in-september-berg
 en-n-h
DTSTART:20230903T110000Z
DTEND:20230903T150000Z
LOCATION:Noorderhoeve (Grote Heklaantje 5\, 1862 Bergen\, Netherlands)
SUMMARY:Workshop Free your authentic voice met Avi Adir in September - Berg
 en N.H.
URL:https://dehartcirkel.nl/event-menu/evenement/110-workshop-free-your-aut
 hentic-voice-met-avi-adir-in-september-bergen-n-h
END:VEVENT
END:VCALENDAR
