BEGIN:VCALENDAR
VERSION:2.0
PRODID:-//https://dehartcirkel.nl///NONSGML kigkonsult.se iCalcreator 2.10.15//
METHOD:PUBLISH
BEGIN:VEVENT
UID:20260420T062747EDT-085552LVx1@https://dehartcirkel.nl/
DTSTAMP:20260420T102747Z
DESCRIPTION:Een ontdekkingsreis met Ard Pisa\n\nKom op vrijdag avond 13 okt
 ober naar de mind blowing lezing Ancient Mysteries & Energies gegeven door
  Ard Pisa.\n\nEén van zijn passies is de oeroude geschiedenis met haar rit
 uele megalithische bouwwerken zoals piramides\, sfinx\, stenen cirkels\,  
 tempels\, hunebedden\, dolmen\, reuzengraven\, menhirs\, etc.\n\nEen aanta
 l jaren geleden kwam Ard achter het feit dat er nog nooit een mummie gevon
 den is in een Egyptische piramide. Dat piramides over de hele wereld te vi
 nden zijn\; zelfs in Bosnië! En\, dat er overal ter wereld mysterieuze meg
 alithische bouwwerken staan die we met de huidige technieken niet kunnen n
 abouwen. Hij was totaal onderste boven van deze feiten.\n\nJij hebt toch o
 ok\, net zoals iedereen\, geleerd dat piramides oude graftombes zijn van d
 e Farao’s? Niets is minder waar. Vreemd dat kinderen - vandaag de dag - he
 t nog steeds zo leren.\n\nArd's wereld ging helemaal op z’n kop toen hij i
 n 2017 voor het eerst de vallei van de Bosnische piramides bezocht. Mind b
 lowing\, piramides in Bosnië of all places! Maar na zijn bezoek aan Ancien
 t Sardinië wist hij dat hij lezingen mocht gaan geven om mensen te laten z
 ien dat de geschiedenis veel meer is dan dat we geleerd hebben vanuit onze
  schoolboeken.\n\nDeze lezing is niet alleen om beelden en verhalen te del
 en en jouw te inspireren om zelf deze plekken te bezoeken. Het gaat vooral
  om jou! Om je bewust te maken dat jouw ongekende vermogens geactiveerd mo
 gen worden. De aanwezigheid van hoge en oeroude energieën op al die magisc
 he plekken doen iets met je\, het zijn stuk voor stuk krachtplekken. \n\nZ
 o is de energie in het tunnelsysteem onder de vallei van de Bosnische pira
 mides diep rakend. Ook op Ancient Sardinië is de energie heel bijzonder. A
 rd deelt graag zijn persoonlijke ervaringen tijdens de lezing.  \n\nArd ne
 emt je tijdens de lezing mee op virtuele reis over de aarde en deelt met j
 ou onvoorstelbare feiten\, indrukwekkende verhalen\, spannende mythes\, mo
 oie beelden van imposante en mysterieuze bouwwerken\, maar vooral onthult 
 hij een aantal ongelofelijke geheimen. Zoals die van de vallei van de Bosn
 ische piramides\, de grote Cheops piramide en de sfinx in Egypte\, Gobli T
 epe in Turkije\, Nan Madol in Micronesië\, de reuzengraven op Ancient Sard
 inië\, en stenen formaties/cirkels in Engeland en Frankrijk. Maar laten we
  niet onze eigen Nederlandse Hunebedden vergeten. De oudste monumenten van
  Nederland zijn de hunebedden\, dat verhaal wil je ook niet missen. \n\nEn
  als dat allemaal al niet indrukwekkend genoeg is\, heeft Ard nog een onge
 lofelijke uitsmijter voor je uit Roemenië\, waar in het Bucegi Gebergte de
  Roemeense sfinx staat en die staat daar als wachter voor de meest bizarre
  plek die ooit op aarde gevonden is.\n\nWie is Ard Pisa?\n\nArd is onder a
 ndere actief als onderzoeker\, auteur en spreker. Eén van zijn passies is 
 de oude geschiedenis.\n\nEen aantal jaren geleden kwam hij achter het feit
  dat er nog nooit een mummie gevonden is een Egyptische piramide en dat pi
 ramides over de hele wereld zijn te vinden.\n\nHij was totaal onderste bov
 en van deze feiten\; want we hebben toch geleerd dat piramides oude grafto
 mbes zijn van de Farao’s? Niets is minder waar.\n\nNa zijn bezoek aan Anci
 ent Sardinië (Het Italiaanse eiland) wist Ard dat hij lezingen moest gaan 
 geven om mensen te laten zien dat de geschiedenis veel meer is dan dat we 
 geleerd hebben vanuit onze schoolboeken.\n\nVoor meer informatie zie: insp
 iration4you.nl\n\n\nWanneer: 13 oktober 2023 - 19:00 - 22.00 uur (inloop 1
 8:45)\n\nLocatie: De nieuwe Beuk\, Dorpstraat 20 Bergen. Gratis Parkeren v
 oor de deur van de Petrus Paulus Kerk (onze locatie zit er aanvast)\n\nVer
 goeding: 17\,50 euro\n\n https://dehartcirkel.nl/event-menu/evenement/109-
 uitverkocht-lezing-ancient-mysteries-energies-ard-pisa
DTSTART:20231013T170000Z
DTEND:20231013T200000Z
LOCATION:de Nieuwe Beuk (Dorpsstraat 20\, 1861 KW Bergen\, Netherlands)
SUMMARY:UITVERKOCHT! Lezing: Ancient Mysteries & Energies - Ard Pisa
URL:https://dehartcirkel.nl/event-menu/evenement/109-uitverkocht-lezing-anc
 ient-mysteries-energies-ard-pisa
END:VEVENT
END:VCALENDAR
