BEGIN:VCALENDAR
VERSION:2.0
PRODID:-//https://dehartcirkel.nl///NONSGML kigkonsult.se iCalcreator 2.10.15//
METHOD:PUBLISH
BEGIN:VEVENT
UID:20260420T061954EDT-0342Gj4dWu@https://dehartcirkel.nl/
DTSTAMP:20260420T101954Z
DESCRIPTION:\n\nHet wordt een avond waarin je je ten diepste kunt ontspanne
 n en jezelf ook weer kan opladen. Je maakt de reis naar binnen. Een reis d
 ie je verbindt met je hart en je laat ervaren wie je in wezen bent.\n\nDe 
 healingreis is een unieke ervaring. Vanuit het veld van onvoorwaardelijke 
 liefde ondersteunt het precies je proces waar je op dit moment bent. Je ma
 akt een individuele reis.\n\nTijdens deze energetische opschoning & activa
 tiesessie worden vastzittende structuren\, patronen\, verstrikkingen\, geb
 lokkeerde energie\, voorouderlijke energie losgetrild in je energiesysteem
  en getransformeerd (aards en multidimensionaal). Hierdoor ontstaat er rui
 mte\, ontspanning en meer innerlijke vrijheid. Je levensenergie gaat weer 
 stromen.\n\nTijdens de sessie lig je heerlijk op een matje en kun je je on
 derdompelen in het veld van liefde. Waarin je helemaal mag zijn en volledi
 g mag ontvangen.\n\nIsabel Sips\, energiehealer\, begeleidt je op een magi
 sche reis naar jouw innerlijke kern\, zodat jij meer gaat leven vanuit jou
  essentie.\n\nIlona zal met haar klankschalen deze avond ondersteunen.\n\n
 Laat je verrassen en ontdek de magie in jezelf.\n\nAchtergrond informatie:
  www.isabelsips.nl\n\n\nWanneer: Vrijdag 26 mei 19.30 – 21.30. (inloop van
 af 19.15)\n\nWaar: Noorderhoeve - Grote Heklaantje nr. 5 in Bergen N.H.\n
 \nBijdrage: 30\,00 euro \n\nDe sessie is voornamelijk liggend. Neem matje/
 deken/e eventueel kussen mee.\n\nDit bedrag kan worden overgemaakt op reke
 ningnr.  NL44 INGB 0796 8731 43\, H.J. Borst\, onder vermelding van: Isabe
 l Sips.\n\n\n \n https://dehartcirkel.nl/event-menu/evenement/107-magische
 -healingreis-door-isabel
DTSTART:20230526T173000Z
DTEND:20230526T193000Z
LOCATION:Noorderhoeve (Grote Heklaantje nr. 5\, 1862 Bergen\, Netherlands)
SUMMARY:Magische healingreis door Isabel
URL:https://dehartcirkel.nl/event-menu/evenement/107-magische-healingreis-d
 oor-isabel
END:VEVENT
END:VCALENDAR
