BEGIN:VCALENDAR
VERSION:2.0
PRODID:-//https://dehartcirkel.nl///NONSGML kigkonsult.se iCalcreator 2.10.15//
METHOD:PUBLISH
BEGIN:VEVENT
UID:20260420T082245EDT-7173iHE0gX@https://dehartcirkel.nl/
DTSTAMP:20260420T122245Z
DESCRIPTION:De laatste wetenswaardigheden over het optimaliseren van jouw g
 ezondheid.\n\nIn deze boeiende en informatieve lezing zal Juglen Zwaan uit
 gebreid ingaan op hoe het zit met de voedingswaarden van ons hedendaagse v
 oedsel\, hoe je in de supermarkt de gezondste keuzes kunt maken en welke v
 oedingsmiddelen je beslist vaker op het menu moet zetten.\n\nEen belangrij
 k aspect van deze lezing is de focus op chronische laaggradige ontstekings
 ziekten\, die aan de basis liggen van de meeste ziekten waar we vandaag de
  dag door geteisterd worden. We zullen bespreken hoe je door middel van vo
 eding en levensstijl deze ontstekingsziekten kunt voorkomen of verminderen
 . Je gaat naar huis met vele praktische tips en trucs waarmee je je gezond
 heid de rest van je leven kunt ondersteunen.\n\nUiteraard is er voldoende 
 gelegenheid om jouw persoonlijke vragen te stellen.\n\nJuglen Zwaan is inm
 iddels een bekende bij de Hartcirkel en ik (Ilona) heb zijn werk altijd ze
 er gewaardeerd. Meer informatie over zijn achtergrond en werk: www.ahealth
 ylife.nl\n\n \n\n\nWanneer:  Vrijdag Avond 24 november - 19.30 uur - 22.00
  uur (uitloop mogelijk)\n\nLocatie: De nieuwe Beuk\, Dorpstraat 20 Bergen.
  Gratis Parkeren voor de deur van de Petrus Paulus Kerk (onze locatie zit 
 daarachter) - Dorpsstraat nr. 20\n\nVergoeding: 20 euro\n\nTijdens deze bi
 jeenkomst kun je ook Juglen zijn aller nieuwste boek kopen welke persoonli
 jk gesigneerd wordt\, indien gewenst.\n\n https://dehartcirkel.nl/event-me
 nu/evenement/106-uitverkocht-lezing-hoe-eet-je-zo-gezond-mogelijk
DTSTART:20231124T183000Z
DTEND:20231124T210000Z
LOCATION:de Nieuwe Beuk (Dorpsstraat 20\, 1861 KW Bergen\, Netherlands)
SUMMARY:UITVERKOCHT! Lezing: Hoe eet je zo gezond mogelijk?
URL:https://dehartcirkel.nl/event-menu/evenement/106-uitverkocht-lezing-hoe
 -eet-je-zo-gezond-mogelijk
END:VEVENT
END:VCALENDAR
