BEGIN:VCALENDAR
VERSION:2.0
PRODID:-//https://dehartcirkel.nl///NONSGML kigkonsult.se iCalcreator 2.10.15//
METHOD:PUBLISH
BEGIN:VEVENT
UID:20260422T061932EDT-3967IjSjAL@https://dehartcirkel.nl/
DTSTAMP:20260422T101932Z
DESCRIPTION:Voeding & vitamines\n\nMet Juglen Zwaan\n\nDit wordt een leerza
 me dag met Juglen Zwaan over voeding en voedingssupplementen. \n\nOnderwer
 pen die zoal besproken worden:\n\nWat is het belang van voeding en wanneer
  moet je suppleren? Welke supplementen zijn aan te raden en welke kun je b
 eter vermijden? Wanneer kun je beter kiezen voor voeding? Welke keuzes op 
 het gebied van voeding kunnen je nog gezonder maken? \n\nDeze dag is speci
 aal voor mensen die het maximale uit hun gezondheid willen halen. De basis
  voor een goede gezondheid wordt besproken\, maar we gaan ook in op de det
 ails. Zo leer je de puntjes op de i te zetten\, waardoor je gezondheid nog
  verder wordt bekrachtigd. De lesstof zal zowel theoretisch als praktisch 
 van aard zijn\, zodat je actief aan de slag kunt in het verbeteren van je 
 gezondheid! Uiteraard is er tijdens deze dag de gelegenheid om jouw (perso
 onlijke) vragen te stellen.\n\n\nJuglen Zwaan is spreker en schrijver over
  voeding en gezondheid. Hij combineert moderne wetenschap met eeuwen oude 
 kennis. Juglen is een voorstander van puur natuur. Hij hangt geen enkel vo
 edingsgeloof aan\, maar combineert vele visies.\n\nMeer informatie over de
 ze spreker: www.ahealthylife.nl\n\n\n\nDatum: zaterdag 7 maart\, 2020\nTij
 d: vanaf 9.30 uur inloop (10 tot 17 uur)\nLocatie: Dorpshuis De Schulp\, V
 isweg 45\, 1935 EB Egmond-Binnen\nVergoeding: € 55\,00 (exclusief drankjes
  en lunch)\n\nNeem zelf je lunch mee of je kunt ook een gezonde lunch verk
 rijgen.\n\nDit bedrag kan worden overgemaakt op rekeningnr. NL44 INGB 0796
  8731 43\, H.M. Borst onder vermelding van: “Voeding & Gezondheid”\n\n htt
 ps://dehartcirkel.nl/event-menu/evenement/10-workshop-voeding-en-vitamines
 -juglen-zwaan
DTSTART:20200307T090000Z
DTEND:20200307T160000Z
LOCATION:Dorpshuis De Schulp (Visweg 45\, 1935 EB Egmond-Binnen)
SUMMARY:WORKSHOP: Voeding en Vitamines - Juglen Zwaan
URL:https://dehartcirkel.nl/event-menu/evenement/10-workshop-voeding-en-vit
 amines-juglen-zwaan
END:VEVENT
END:VCALENDAR
