BEGIN:VCALENDAR
VERSION:2.0
PRODID:-//https://dehartcirkel.nl///NONSGML kigkonsult.se iCalcreator 2.10.15//
METHOD:PUBLISH
BEGIN:VEVENT
UID:20260420T081755EDT-5638DBKc9w@https://dehartcirkel.nl/
DTSTAMP:20260420T121755Z
DESCRIPTION: De weg naar een bezield leven is je ziel weervinden. \nSpreker
 : Geert Kimpen\n\nStel je voor dat je ziel zich niet in jezelf bevindt\, m
 aar boven je hangt\, als een alwetend veld met de kennis van alles uit je 
 leven: wat was\, is en zal komen. Een bron van eeuwige kennis\, die je te 
 allen tijde kan raadplegen en die je kan aanboren via de onzichtbare kabel
  waarmee je aangesloten bent vanuit je derde oog.\n\nZou je dan je leven z
 oals het zich voltrekt niet vanuit een totaal ander perspectief zien? Zou 
 je dan niet je zielenliefde op een heel andere manier kunnen herkennen dan
  met de gebrekkige zintuigen die je hier op aarde tot je beschikking hebt?
  Maar hoe kan je contact met je ziel maken als je haar niet voelt en niet 
 eens zeker weet of je in haar gelooft?\n\nDuik samen met Geert Kimpen in d
 e diepe wijsheden van het oude India om weer naar je ziel te leren luister
 en\, die als een wanhopige boordcomputer al je hele leven lang verbinding 
 met je probeert te maken. Laat je meeslepen door zijn verhalen\, gedrenkt 
 in mystiek\, wijsheid en inzichten\, in een bad van relativering\, humor e
 n herkenbare situaties.\n\nNa zijn debuutroman De kabbalist (meer dan 100.
 000 verkochte exemplaren\, uitgegeven in meer dan 15 landen)\, schreef Gee
 rt Kimpen de succesvolle romans De geheime Newton\, Rachel\, of het myster
 ie van de liefde en De prins van Filettino.\n\nDaarna werd het stil.\n\nWa
 nt Geert Kimpen kwam in een echtscheiding terecht en waar moet je dan over
  schrijven\, als de liefde je thema is? Toen ontmoette hij het meisje dat 
 aan de oever verscheen. De inspiratie ging weer stromen. Het meisje dat aa
 n de oever verscheen is het eerste boek van de herboren Geert Kimpen.\n\n
 \n\nIs het mogelijk onvoorwaardelijk in de eeuwige liefde te geloven wanne
 er je hart al eens gebroken werd? Wat zou jij doen als je je zielsverwant 
 eindelijk ontmoette\, maar hij herkende je niet?\n\nDeze lezing zal op lic
 htzinnige wijze worden ingeleid door lofdichter en B12 specialist Bo Baden
  (vitamineb12tekort.nl) en zal begeleid worden door de prachtige Engelen k
 lanken van harpiste en pianiste Fraukje Ramona Weishaupt.\n\nWanneer?\nOp 
 zaterdagmiddag 26 Oktober 2019\nTijdstip: 14:30 uur tot 17 uur (zaal open 
 om 14:00 uur)\nLocatie: Dorpshuis De Schulp\, Visweg 45\, 1935 EB Egmond-B
 innen\nHeerlijke lichte zaal en volop gratis parkeerplekken\, rechts en li
 nks van het gebouw!\nVergoeding: 15 euro (vermeld duidelijk jouw naam bij 
 de betaling)\n\nDit bedrag kan worden overgemaakt op rekeningnr. NL37 RABO
  0327 7053 53\, H.J. Borst\, onder vermelding van: Geert Kimpen.\n\n \n ht
 tps://dehartcirkel.nl/event-menu/evenement/1-lezing-de-tom-tom-van-je-ziel
 -geert-kimpen
DTSTART:20191026T123000Z
DTEND:20191026T150000Z
LOCATION:Dorpshuis De Schulp (Visweg 45\, 1935 EB Egmond-Binnen)
SUMMARY:Lezing: De Tom Tom van je Ziel - Geert Kimpen 
URL:https://dehartcirkel.nl/event-menu/evenement/1-lezing-de-tom-tom-van-je
 -ziel-geert-kimpen
END:VEVENT
END:VCALENDAR
