BEGIN:VCALENDAR
VERSION:2.0
PRODID:-//https://dehartcirkel.nl///NONSGML kigkonsult.se iCalcreator 2.10.15//
METHOD:PUBLISH
BEGIN:VEVENT
UID:20260420T061903EDT-7383Bhxt0v@https://dehartcirkel.nl/
DTSTAMP:20260420T101903Z
DESCRIPTION:{article 23 t/m 27 Juli 2019}[image-intro]\n[text]{/article}\n 
 https://dehartcirkel.nl/agenda/archief-evenementen/evenement/4-isaac-shapi
 ro-intensive
DTSTART:20190726T090000Z
DTEND:20190727T160000Z
LOCATION:Struin\,Strandpalviljoen Camperduin (Struin\, Strandpalviljoen Cam
 perduin\, Heereweg 407\, 1871 GL\, Camperduin N.H.)
SUMMARY:Isaac Shapiro - Intensive
URL:https://dehartcirkel.nl/agenda/archief-evenementen/evenement/4-isaac-sh
 apiro-intensive
END:VEVENT
END:VCALENDAR
