BEGIN:VCALENDAR
VERSION:2.0
PRODID:-//https://dehartcirkel.nl///NONSGML kigkonsult.se iCalcreator 2.10.15//
METHOD:PUBLISH
BEGIN:VEVENT
UID:20260420T062610EDT-1942M8uZHS@https://dehartcirkel.nl/
DTSTAMP:20260420T102610Z
DESCRIPTION:{article 23 t/m 27 Juli 2019}[image-intro]\n[text]{/article}\n 
 https://dehartcirkel.nl/agenda/archief-evenementen/evenement/19-isaac-shap
 iro-satsang
DTSTART:20190723T173000Z
DTEND:20190725T193000Z
LOCATION:Struin\,Strandpalviljoen Camperduin (Struin\, Strandpalviljoen Cam
 perduin\, Heereweg 407\, 1871 GL\, Camperduin N.H.)
SUMMARY:Isaac Shapiro - Satsang
URL:https://dehartcirkel.nl/agenda/archief-evenementen/evenement/19-isaac-s
 hapiro-satsang
END:VEVENT
END:VCALENDAR
